BEGIN:VCALENDAR
VERSION:2.0
PRODID:-//Purring Pottery - ECPv6.15.17.1//NONSGML v1.0//EN
CALSCALE:GREGORIAN
METHOD:PUBLISH
X-WR-CALNAME:Purring Pottery
X-ORIGINAL-URL:https://www.purringpottery.com
X-WR-CALDESC:Events for Purring Pottery
REFRESH-INTERVAL;VALUE=DURATION:PT1H
X-Robots-Tag:noindex
X-PUBLISHED-TTL:PT1H
BEGIN:VTIMEZONE
TZID:UTC
BEGIN:STANDARD
TZOFFSETFROM:+0000
TZOFFSETTO:+0000
TZNAME:UTC
DTSTART:20230101T000000
END:STANDARD
END:VTIMEZONE
BEGIN:VEVENT
DTSTART;VALUE=DATE:20241109
DTEND;VALUE=DATE:20241110
DTSTAMP:20260422T153720
CREATED:20240524T024356Z
LAST-MODIFIED:20240524T024356Z
UID:476-1731110400-1731196799@www.purringpottery.com
SUMMARY:Frosty Fair
DESCRIPTION:
URL:https://www.purringpottery.com/event/frosty-fair/
LOCATION:Colchester Hayward Volunteer Fire Company Firehouse\, 52 Old Hartford Road\, Colchester\, CT\, 06415\, United States
CATEGORIES:farmers market
END:VEVENT
BEGIN:VEVENT
DTSTART;TZID=UTC:20241013T100000
DTEND;TZID=UTC:20241013T130000
DTSTAMP:20260422T153720
CREATED:20240503T025124Z
LAST-MODIFIED:20240503T025124Z
UID:447-1728813600-1728824400@www.purringpottery.com
SUMMARY:Coventry Farmers Market
DESCRIPTION:Visit me at the Coventry Farmers Market! It’ll be Apple Harvest and Fire Prevention Day. Enjoy some crisp apple treats\, learn about preventing fires\, and find my booth for some beautiful mugs to drink cider from!
URL:https://www.purringpottery.com/event/coventry-farmers-market-3/
LOCATION:Nathan Hale Homestead\, 2299 South St\, Coventry\, CT\, 06238\, United States
CATEGORIES:farmers market
END:VEVENT
BEGIN:VEVENT
DTSTART;VALUE=DATE:20241012
DTEND;VALUE=DATE:20241013
DTSTAMP:20260422T153720
CREATED:20240524T024106Z
LAST-MODIFIED:20240524T024106Z
UID:474-1728691200-1728777599@www.purringpottery.com
SUMMARY:Frog Rock Market
DESCRIPTION:
URL:https://www.purringpottery.com/event/frog-rock-market-2/
LOCATION:Frog Rock\, Route 44\, Eastford\, CT\, 06242\, United States
CATEGORIES:farmers market
END:VEVENT
BEGIN:VEVENT
DTSTART;TZID=UTC:20240924T160000
DTEND;TZID=UTC:20240924T190000
DTSTAMP:20260422T153720
CREATED:20240524T022930Z
LAST-MODIFIED:20240524T022930Z
UID:466-1727193600-1727204400@www.purringpottery.com
SUMMARY:Montville Farmer's Market
DESCRIPTION:
URL:https://www.purringpottery.com/event/montville-farmers-market-4/
LOCATION:75 Oxoboxo Dam Rd.\, Oakdale\, CT\, United States\, Connecticut\, 75 Oxoboxo Dam Rd\, Oakdale\, CT\, 06370\, United States
CATEGORIES:farmers market
END:VEVENT
BEGIN:VEVENT
DTSTART;TZID=UTC:20240922T100000
DTEND;TZID=UTC:20240922T130000
DTSTAMP:20260422T153720
CREATED:20240524T021714Z
LAST-MODIFIED:20240524T022341Z
UID:457-1726999200-1727010000@www.purringpottery.com
SUMMARY:Coventry Farmers Market
DESCRIPTION:
URL:https://www.purringpottery.com/event/coventry-farmers-market-4/
LOCATION:Nathan Hale Homestead\, 2299 South St\, Coventry\, CT\, 06238\, United States
CATEGORIES:farmers market
END:VEVENT
BEGIN:VEVENT
DTSTART;TZID=UTC:20240907T100000
DTEND;TZID=UTC:20240907T150000
DTSTAMP:20260422T153720
CREATED:20240524T023314Z
LAST-MODIFIED:20240524T023314Z
UID:468-1725703200-1725721200@www.purringpottery.com
SUMMARY:Artisan Market at Parmelee Farm
DESCRIPTION:
URL:https://www.purringpottery.com/event/artisan-market-at-parmelee-farm/
LOCATION:Parmelee Farm\, 465 Route 81\, Killingworth\, CT\, 06419\, United States
CATEGORIES:farmers market
END:VEVENT
BEGIN:VEVENT
DTSTART;TZID=UTC:20240901T100000
DTEND;TZID=UTC:20240901T130000
DTSTAMP:20260422T153720
CREATED:20240503T024900Z
LAST-MODIFIED:20240503T024900Z
UID:444-1725184800-1725195600@www.purringpottery.com
SUMMARY:Coventry Farmers Market
DESCRIPTION:I’ll be at the Coventry Farmers Market for Dog Day! Bring your beloved pups and come see me at my booth!
URL:https://www.purringpottery.com/event/coventry-farmers-market-2/
LOCATION:Nathan Hale Homestead\, 2299 South St\, Coventry\, CT\, 06238\, United States
CATEGORIES:farmers market
END:VEVENT
BEGIN:VEVENT
DTSTART;TZID=UTC:20240813T160000
DTEND;TZID=UTC:20240813T190000
DTSTAMP:20260422T153720
CREATED:20240524T022641Z
LAST-MODIFIED:20240524T022641Z
UID:464-1723564800-1723575600@www.purringpottery.com
SUMMARY:Montville Farmer's Market
DESCRIPTION:
URL:https://www.purringpottery.com/event/montville-farmers-market-3/
LOCATION:CT
CATEGORIES:farmers market
END:VEVENT
BEGIN:VEVENT
DTSTART;VALUE=DATE:20240810
DTEND;VALUE=DATE:20240811
DTSTAMP:20260422T153720
CREATED:20240524T024023Z
LAST-MODIFIED:20240524T024023Z
UID:471-1723248000-1723334399@www.purringpottery.com
SUMMARY:Frog Rock Market
DESCRIPTION:
URL:https://www.purringpottery.com/event/frog-rock-market/
LOCATION:Frog Rock\, Route 44\, Eastford\, CT\, 06242\, United States
CATEGORIES:farmers market
END:VEVENT
BEGIN:VEVENT
DTSTART;TZID=UTC:20240723T160000
DTEND;TZID=UTC:20240723T190000
DTSTAMP:20260422T153720
CREATED:20240524T022507Z
LAST-MODIFIED:20240524T022507Z
UID:462-1721750400-1721761200@www.purringpottery.com
SUMMARY:Montville Farmer's Market
DESCRIPTION:
URL:https://www.purringpottery.com/event/montville-farmers-market-2/
LOCATION:75 Oxoboxo Dam Rd.\, Oakdale\, CT\, United States\, Connecticut\, 75 Oxoboxo Dam Rd\, Oakdale\, CT\, 06370\, United States
CATEGORIES:farmers market
END:VEVENT
BEGIN:VEVENT
DTSTART;TZID=UTC:20240618T160000
DTEND;TZID=UTC:20240618T190000
DTSTAMP:20260422T153720
CREATED:20240524T022239Z
LAST-MODIFIED:20240524T022239Z
UID:459-1718726400-1718737200@www.purringpottery.com
SUMMARY:Montville Farmer's Market
DESCRIPTION:
URL:https://www.purringpottery.com/event/montville-farmers-market/
LOCATION:75 Oxoboxo Dam Rd.\, Oakdale\, CT\, United States\, Connecticut\, 75 Oxoboxo Dam Rd\, Oakdale\, CT\, 06370\, United States
CATEGORIES:farmers market
END:VEVENT
BEGIN:VEVENT
DTSTART;TZID=UTC:20240602T100000
DTEND;TZID=UTC:20240602T130000
DTSTAMP:20260422T153720
CREATED:20240503T024437Z
LAST-MODIFIED:20240503T030003Z
UID:440-1717322400-1717333200@www.purringpottery.com
SUMMARY:Coventry Farmers Market
DESCRIPTION:I will be at the Coventry Farmers Market for Opening Day!
URL:https://www.purringpottery.com/event/coventry-farmers-market/
LOCATION:Nathan Hale Homestead\, 2299 South St\, Coventry\, CT\, 06238\, United States
CATEGORIES:farmers market
END:VEVENT
END:VCALENDAR